BEGIN:VCALENDAR
VERSION:2.0
PRODID:-//Squarespace Inc/Squarespace 6//v6//EN
BEGIN:VEVENT
UID:5b427339f950b7059f9de7dd@squarespace.com
DTSTAMP:20190923T091658Z
DTSTART:20191007T193000Z
DTEND:20191009T203000Z
SUMMARY:Whitewater Rescue Technician Professional (WRT-Pro) 
GEO:-38.015757;176.344871
LOCATION:Okere Falls Road\, Okere Falls\, Bay Of Plenty\, 3074\, New Zealan
 d
END:VEVENT
END:VCALENDAR
